BEGIN:VCALENDAR
VERSION:2.0
PRODID:-//En Passant - ECPv6.15.20//NONSGML v1.0//EN
CALSCALE:GREGORIAN
METHOD:PUBLISH
X-ORIGINAL-URL:https://enpassant.dk
X-WR-CALDESC:Begivenheder for En Passant
REFRESH-INTERVAL;VALUE=DURATION:PT1H
X-Robots-Tag:noindex
X-PUBLISHED-TTL:PT1H
BEGIN:VTIMEZONE
TZID:Europe/Copenhagen
BEGIN:DAYLIGHT
TZOFFSETFROM:+0100
TZOFFSETTO:+0200
TZNAME:CEST
DTSTART:20220327T010000
END:DAYLIGHT
BEGIN:STANDARD
TZOFFSETFROM:+0200
TZOFFSETTO:+0100
TZNAME:CET
DTSTART:20221030T010000
END:STANDARD
BEGIN:DAYLIGHT
TZOFFSETFROM:+0100
TZOFFSETTO:+0200
TZNAME:CEST
DTSTART:20230326T010000
END:DAYLIGHT
BEGIN:STANDARD
TZOFFSETFROM:+0200
TZOFFSETTO:+0100
TZNAME:CET
DTSTART:20231029T010000
END:STANDARD
BEGIN:DAYLIGHT
TZOFFSETFROM:+0100
TZOFFSETTO:+0200
TZNAME:CEST
DTSTART:20240331T010000
END:DAYLIGHT
BEGIN:STANDARD
TZOFFSETFROM:+0200
TZOFFSETTO:+0100
TZNAME:CET
DTSTART:20241027T010000
END:STANDARD
END:VTIMEZONE
BEGIN:VEVENT
DTSTART;TZID=Europe/Copenhagen:20230427T190000
DTEND;TZID=Europe/Copenhagen:20230427T223000
DTSTAMP:20260420T203048
CREATED:20230414T153739Z
LAST-MODIFIED:20230414T153739Z
UID:2035-1682622000-1682634600@enpassant.dk
SUMMARY:Nørresundby hurtigskakturnering runde 1 til 3
DESCRIPTION:Nørresundby Skakklub indbyder til en hurtigskakturnering\, som er åben for alle medlemmer af Dansk Skak Union.\nTurneringerne afvikles over 9 runder på 3 klubaftner i foråret 2023 og rates i hurtigskak for alle spillede partier.\nSpilledagene er torsdage den 27. april og den 4. og 11. maj  2023 kl. 19.00. \nHver aften spilles der 3 runder a 25 min + 10s pr. træk efter Schweizer systemet. \nDet koster 100 kr at deltage. Opkræves den første aften. \nTilmeldingsfrist tirsdag den 25. april 2023
URL:https://enpassant.dk/event/noerresundby-hurtigskakturnering-runde-1-til-3/
LOCATION:Klubben\, Strandgade 3\, Nørresundby\, 9400\, Danmark
CATEGORIES:Kalender
ORGANIZER;CN="N%C3%B8rresundby Skakklub":MAILTO:formand@enpassant.dk
END:VEVENT
END:VCALENDAR