BEGIN:VCALENDAR
VERSION:2.0
PRODID:-//En Passant - ECPv6.15.20//NONSGML v1.0//EN
CALSCALE:GREGORIAN
METHOD:PUBLISH
X-WR-CALNAME:En Passant
X-ORIGINAL-URL:http://enpassant.dk
X-WR-CALDESC:Begivenheder for En Passant
REFRESH-INTERVAL;VALUE=DURATION:PT1H
X-Robots-Tag:noindex
X-PUBLISHED-TTL:PT1H
BEGIN:VTIMEZONE
TZID:Europe/Copenhagen
BEGIN:DAYLIGHT
TZOFFSETFROM:+0100
TZOFFSETTO:+0200
TZNAME:CEST
DTSTART:20230326T010000
END:DAYLIGHT
BEGIN:STANDARD
TZOFFSETFROM:+0200
TZOFFSETTO:+0100
TZNAME:CET
DTSTART:20231029T010000
END:STANDARD
BEGIN:DAYLIGHT
TZOFFSETFROM:+0100
TZOFFSETTO:+0200
TZNAME:CEST
DTSTART:20240331T010000
END:DAYLIGHT
BEGIN:STANDARD
TZOFFSETFROM:+0200
TZOFFSETTO:+0100
TZNAME:CET
DTSTART:20241027T010000
END:STANDARD
BEGIN:DAYLIGHT
TZOFFSETFROM:+0100
TZOFFSETTO:+0200
TZNAME:CEST
DTSTART:20250330T010000
END:DAYLIGHT
BEGIN:STANDARD
TZOFFSETFROM:+0200
TZOFFSETTO:+0100
TZNAME:CET
DTSTART:20251026T010000
END:STANDARD
END:VTIMEZONE
BEGIN:VEVENT
DTSTART;TZID=Europe/Copenhagen:20241111T190000
DTEND;TZID=Europe/Copenhagen:20241111T230000
DTSTAMP:20260424T033434
CREATED:20241023T191303Z
LAST-MODIFIED:20241023T191451Z
UID:2189-1731351600-1731366000@enpassant.dk
SUMMARY:Jetsmark 2 - Nørresundby 1
DESCRIPTION:
URL:http://enpassant.dk/event/jetsmark-2-noerresundby-1/
LOCATION:Jetsmark\, Skolegade 2\, Pandrup\, 9490
CATEGORIES:Kalender
END:VEVENT
BEGIN:VEVENT
DTSTART;TZID=Europe/Copenhagen:20241128T190000
DTEND;TZID=Europe/Copenhagen:20241128T230000
DTSTAMP:20260424T033434
CREATED:20241023T192427Z
LAST-MODIFIED:20241023T192427Z
UID:2203-1732820400-1732834800@enpassant.dk
SUMMARY:Nørresundby 1 - Aars 1
DESCRIPTION:
URL:http://enpassant.dk/event/noerresundby-1-aars-1/
LOCATION:Klubben\, Strandgade 3\, Nørresundby\, 9400\, Danmark
CATEGORIES:Kalender
END:VEVENT
END:VCALENDAR