BEGIN:VCALENDAR
VERSION:2.0
PRODID:-//En Passant - ECPv6.15.20//NONSGML v1.0//EN
CALSCALE:GREGORIAN
METHOD:PUBLISH
X-WR-CALNAME:En Passant
X-ORIGINAL-URL:http://enpassant.dk
X-WR-CALDESC:Begivenheder for En Passant
REFRESH-INTERVAL;VALUE=DURATION:PT1H
X-Robots-Tag:noindex
X-PUBLISHED-TTL:PT1H
BEGIN:VTIMEZONE
TZID:Europe/Copenhagen
BEGIN:DAYLIGHT
TZOFFSETFROM:+0100
TZOFFSETTO:+0200
TZNAME:CEST
DTSTART:20250330T010000
END:DAYLIGHT
BEGIN:STANDARD
TZOFFSETFROM:+0200
TZOFFSETTO:+0100
TZNAME:CET
DTSTART:20251026T010000
END:STANDARD
BEGIN:DAYLIGHT
TZOFFSETFROM:+0100
TZOFFSETTO:+0200
TZNAME:CEST
DTSTART:20260329T010000
END:DAYLIGHT
BEGIN:STANDARD
TZOFFSETFROM:+0200
TZOFFSETTO:+0100
TZNAME:CET
DTSTART:20261025T010000
END:STANDARD
BEGIN:DAYLIGHT
TZOFFSETFROM:+0100
TZOFFSETTO:+0200
TZNAME:CEST
DTSTART:20270328T010000
END:DAYLIGHT
BEGIN:STANDARD
TZOFFSETFROM:+0200
TZOFFSETTO:+0100
TZNAME:CET
DTSTART:20271031T010000
END:STANDARD
END:VTIMEZONE
BEGIN:VEVENT
DTSTART;TZID=Europe/Copenhagen:20260108T190000
DTEND;TZID=Europe/Copenhagen:20260108T230000
DTSTAMP:20260423T132845
CREATED:20251009T200857Z
LAST-MODIFIED:20251009T200857Z
UID:2405-1767898800-1767913200@enpassant.dk
SUMMARY:Nørresundby2-Aalborg7
DESCRIPTION:
URL:http://enpassant.dk/event/noerresundby2-aalborg7/
LOCATION:Klubben\, Strandgade 3\, Nørresundby\, 9400\, Danmark
CATEGORIES:Kalender
END:VEVENT
BEGIN:VEVENT
DTSTART;TZID=Europe/Copenhagen:20260108T190000
DTEND;TZID=Europe/Copenhagen:20260108T230000
DTSTAMP:20260423T132845
CREATED:20251009T201549Z
LAST-MODIFIED:20251009T201549Z
UID:2417-1767898800-1767913200@enpassant.dk
SUMMARY:Nørresundby3-Frederikshavn1
DESCRIPTION:
URL:http://enpassant.dk/event/noerresundby3-frederikshavn1/
LOCATION:Klubben\, Strandgade 3\, Nørresundby\, 9400\, Danmark
CATEGORIES:Kalender
END:VEVENT
BEGIN:VEVENT
DTSTART;TZID=Europe/Copenhagen:20260126T190000
DTEND;TZID=Europe/Copenhagen:20260126T230000
DTSTAMP:20260423T132845
CREATED:20251009T201651Z
LAST-MODIFIED:20251009T201651Z
UID:2419-1769454000-1769468400@enpassant.dk
SUMMARY:Aars2-Nørresundby3
DESCRIPTION:
URL:http://enpassant.dk/event/aars2-noerresundby3/
LOCATION:Aars Skakklub\, Ø. Boulevard 10\, Aars\, 9600
CATEGORIES:Kalender
END:VEVENT
BEGIN:VEVENT
DTSTART;TZID=Europe/Copenhagen:20260127T190000
DTEND;TZID=Europe/Copenhagen:20260127T230000
DTSTAMP:20260423T132845
CREATED:20251009T200957Z
LAST-MODIFIED:20251009T200957Z
UID:2407-1769540400-1769554800@enpassant.dk
SUMMARY:Aalborg6-Nørresundby2
DESCRIPTION:
URL:http://enpassant.dk/event/aalborg6-noerresundby2/
LOCATION:Aalborg Skakforening\, Nyhavnsgade 14\, 2. sal\, Aalborg\, 9000\, Danmark
CATEGORIES:Kalender
END:VEVENT
END:VCALENDAR